BEGIN:VCALENDAR
VERSION:2.0
PRODID:-//Club Village - ECPv4.1.0.1//NONSGML v1.0//EN
CALSCALE:GREGORIAN
METHOD:PUBLISH
X-WR-CALNAME:Club Village
X-ORIGINAL-URL:http://www.club-village.com
X-WR-CALDESC:Events for Club Village
BEGIN:VEVENT
DTSTART;TZID="Europe/Vienna":20200801T200000
DTEND;TZID="Europe/Vienna":20200802T010000
DTSTAMP:20260423T125919
CREATED:20200727T114438
LAST-MODIFIED:20200727T114438
UID:1154-1596312000-1596330000@www.club-village.com
SUMMARY:SUMMER TUNES
DESCRIPTION:
URL:http://www.club-village.com/event/summer-tunes/
END:VEVENT
END:VCALENDAR